BEGIN:VCALENDAR
PRODID:-//eluceo/ical//2.0/EN
VERSION:2.0
CALSCALE:GREGORIAN
BEGIN:VEVENT
UID:aa466eab0c19ddc6fe20ad3dd8dbc9fc
DTSTAMP:20260421T173648Z
SUMMARY:Gemeinsam durchs biologische Gartenjahr 3
DESCRIPTION:5-teilige Kurs für Gärtner*innen mit Vorkenntnissen.\n
DTSTART:20230328T144500Z
DTEND:20230328T171500Z
LOCATION:Münzgasse 4\, 6102  Malters
GEO:47.037552;8.182888
X-APPLE-STRUCTURED-LOCATION;VALUE=URI;X-ADDRESS=Münzgasse 4\, 6102  Malter
 s;X-APPLE-RADIUS=49;X-TITLE=:geo:47.037552,8.182888
END:VEVENT
END:VCALENDAR
