BEGIN:VCALENDAR
PRODID:-//eluceo/ical//2.0/EN
VERSION:2.0
CALSCALE:GREGORIAN
BEGIN:VEVENT
UID:d88e18714d4964349adf6e0d08725edc
DTSTAMP:20260421T173648Z
SUMMARY:Wildkräuter in der Küche - Ernten ohne Säen
DESCRIPTION:Experimentierfreudige Köche und Köchinnen werden ihren Menüp
 lan\nbereichern können.\n
DTSTART:20230325T073000Z
DTEND:20230325T150000Z
LOCATION:Burgrain 24\, 6248 Malters
END:VEVENT
END:VCALENDAR
