BEGIN:VCALENDAR
PRODID:-//eluceo/ical//2.0/EN
VERSION:2.0
CALSCALE:GREGORIAN
BEGIN:VEVENT
UID:775caee09b96343b4a0d79f123529ada
DTSTAMP:20260421T191459Z
SUMMARY:Gemeinsam durchs biologische Gartenjahr 1 
DESCRIPTION:7-teiliger Grundkurs für Garten "Neulinge".\n
DTSTART:20230321T154500Z
DTEND:20230321T181500Z
LOCATION:Münzgasse 4\, 6102 Malters
GEO:47.037552;8.182888
X-APPLE-STRUCTURED-LOCATION;VALUE=URI;X-ADDRESS=Münzgasse 4\, 6102 Malters
 ;X-APPLE-RADIUS=49;X-TITLE=:geo:47.037552,8.182888
END:VEVENT
END:VCALENDAR
