BEGIN:VCALENDAR
PRODID:-//eluceo/ical//2.0/EN
VERSION:2.0
CALSCALE:GREGORIAN
BEGIN:VEVENT
UID:4d09b5b8d97d0c7780931a33d395f047
DTSTAMP:20260421T190724Z
SUMMARY:Weiden Flechtkurs 2
DESCRIPTION:Aus ungeschälten Weiden flechten wir Rank-Hilfen für Schling-
  und\nKletterpflanzen.\n
DTSTART:20230311T083000Z
DTEND:20230311T120000Z
LOCATION:Agrarmuseum Burgrain\, Burgrain 20 \, 6248  Alberswil
GEO:47.143395;7.996523
X-APPLE-STRUCTURED-LOCATION;VALUE=URI;X-ADDRESS=Agrarmuseum Burgrain\, Burg
 rain 20 \, 6248  Alberswil;X-APPLE-RADIUS=49;X-TITLE=:geo:47.143395,7.9965
 23
END:VEVENT
END:VCALENDAR
