BEGIN:VCALENDAR
PRODID:-//eluceo/ical//2.0/EN
VERSION:2.0
CALSCALE:GREGORIAN
BEGIN:VEVENT
UID:a60ad18d87f681faaa058fe01c35e85e
DTSTAMP:20260424T152625Z
SUMMARY:Energiesparen: Informationen und Sparprodukte
DESCRIPTION:Energiesparen ist das Gebot der Stunde. Die Stadt und Umweltber
 atung\nLuzern informieren und geben vergünstigte Produkte zum Energiespar
 en\nab: Stromsparleisten\, Thermometer oder Wasserspar-Düsen. Kommen Sie\
 nvorbei!\n
DTSTART:20221112T080000Z
DTEND:20221112T120000Z
LOCATION:Schwanenplatz\, 6004 Luzern
GEO:47.053350;8.308872
X-APPLE-STRUCTURED-LOCATION;VALUE=URI;X-ADDRESS=Schwanenplatz\, 6004 Luzern
 ;X-APPLE-RADIUS=49;X-TITLE=:geo:47.053350,8.308872
END:VEVENT
END:VCALENDAR
