BEGIN:VCALENDAR
PRODID:-//eluceo/ical//2.0/EN
VERSION:2.0
CALSCALE:GREGORIAN
BEGIN:VEVENT
UID:569752c93c8db4141a3f6e43081c73da
DTSTAMP:20260421T140748Z
SUMMARY:Essen ohne Food Waste
DTSTART:20221214T180000Z
DTEND:20221214T201500Z
LOCATION:Sternmattstrasse 3\, 6005 Luzern
GEO:47.040822;8.308322
X-APPLE-STRUCTURED-LOCATION;VALUE=URI;X-ADDRESS=Sternmattstrasse 3\, 6005 L
 uzern;X-APPLE-RADIUS=49;X-TITLE=:geo:47.040822,8.308322
END:VEVENT
END:VCALENDAR
