BEGIN:VCALENDAR
PRODID:-//eluceo/ical//2.0/EN
VERSION:2.0
CALSCALE:GREGORIAN
BEGIN:VEVENT
UID:94cf19257cc2e96d0a8d6ab176d8674f
DTSTAMP:20260421T191940Z
SUMMARY:Kollektiv und Digital: Neue Einkaufs- und Vertriebsmöglichkeiten
DESCRIPTION:Du möchtest Produzierende durch einen fairen Preis unterstütz
 en? Du\nmöchtest wissen\, wer produziert und wie produziert wird und wün
 scht\ndir generell mehr Transparenz zur Wertschöpfung von Lebensmitteln?\
 nWie gelingt klimafreundliche Ernährung?\n
DTSTART:20221123T180000Z
DTEND:20221123T201500Z
LOCATION:Sälistrasse 24\, 6005 Luzern
GEO:47.046407;8.298655
X-APPLE-STRUCTURED-LOCATION;VALUE=URI;X-ADDRESS=Sälistrasse 24\, 6005 Luze
 rn;X-APPLE-RADIUS=49;X-TITLE=:geo:47.046407,8.298655
END:VEVENT
END:VCALENDAR
