BEGIN:VCALENDAR
PRODID:-//eluceo/ical//2.0/EN
VERSION:2.0
CALSCALE:GREGORIAN
BEGIN:VEVENT
UID:00e3d3872c4284d1000f181667a89085
DTSTAMP:20260424T033434Z
SUMMARY:Lokale Nahrungsversorgung im Quartier mitgestalten
DESCRIPTION:Gestalte die Ernährungslandschaft für dein Quartier aktiv mit
 ! Im\ninteraktiven Workshop erarbeiten wir Wünsche\, Bedürfnisse und\nZu
 kunftspläne für unser Quartier. Wir vernetzen uns und setzen\neinige der
  angedachten Ideen um oder wirken mit.\n
DTSTART:20221108T180000Z
DTEND:20221108T201500Z
LOCATION:Sälistrasse 24\, 6005 Luzern
GEO:47.046407;8.298655
X-APPLE-STRUCTURED-LOCATION;VALUE=URI;X-ADDRESS=Sälistrasse 24\, 6005 Luze
 rn;X-APPLE-RADIUS=49;X-TITLE=:geo:47.046407,8.298655
END:VEVENT
END:VCALENDAR
