BEGIN:VCALENDAR
PRODID:-//eluceo/ical//2.0/EN
VERSION:2.0
CALSCALE:GREGORIAN
BEGIN:VEVENT
UID:b6116c2b2dea684bd321b6ee4ce34954
DTSTAMP:20260421T210602Z
SUMMARY:Buchen-Spaziergang im Bireggwald (Luzern / Horw)
DTSTART:20221022T113000Z
DTEND:20221022T150000Z
LOCATION:
GEO:47.031450;8.307452
X-APPLE-STRUCTURED-LOCATION;VALUE=URI;X-ADDRESS=;X-APPLE-RADIUS=49;X-TITLE=
 :geo:47.031450,8.307452
END:VEVENT
END:VCALENDAR
