BEGIN:VCALENDAR
PRODID:-//eluceo/ical//2.0/EN
VERSION:2.0
CALSCALE:GREGORIAN
BEGIN:VEVENT
UID:ff8d4de83ac746c58425b85b0fd45eff
DTSTAMP:20260421T190534Z
SUMMARY:Zerowaste Workshop Arbeit/Ferien/Geschenke
DESCRIPTION:Erfahren Sie in diesem interaktiven Workshop Tipps für weniger
  Abfall\nam Arbeitsplatz\, umweltfreundlicheres Reisen und Ideen für weni
 ger\nPapiermüll an ihrem nächsten Weihnachtsfest.\n
DTSTART:20221124T173000Z
DTEND:20221124T191500Z
END:VEVENT
END:VCALENDAR
