BEGIN:VCALENDAR
PRODID:-//eluceo/ical//2.0/EN
VERSION:2.0
CALSCALE:GREGORIAN
BEGIN:VEVENT
UID:1ce9a9d771923248a4c5aaa0fe39c58d
DTSTAMP:20260424T164046Z
SUMMARY:Zerowaste Workshop Schönheit/Reinigung/Kleidung
DESCRIPTION:Erfahren Sie in diesem interaktiven Workshop Tipps und Adressen
  für\nein abfallfreies Badezimmer\, selbstgemachte Reinigungsmittel und d
 ie\nbesten Secondhand Adressen.\n
DTSTART:20221117T173000Z
DTEND:20221117T191500Z
END:VEVENT
END:VCALENDAR
