BEGIN:VCALENDAR
PRODID:-//eluceo/ical//2.0/EN
VERSION:2.0
CALSCALE:GREGORIAN
BEGIN:VEVENT
UID:457fb098354f732007e22a49b17d904d
DTSTAMP:20260424T025008Z
SUMMARY:Zerowaste Workshop Essen/Trinken/Einkaufen
DESCRIPTION:Erfahren Sie in diesem interaktiven Workshop Tipps und Adressen
  zum\nabfallfreien Essen/Trinken und Einkaufen in Luzern.\n
DTSTART:20221110T173000Z
DTEND:20221110T191500Z
LOCATION:Winkelriedstrasse 5\, 6003 Luzern
GEO:47.049366;8.304957
X-APPLE-STRUCTURED-LOCATION;VALUE=URI;X-ADDRESS=Winkelriedstrasse 5\, 6003 
 Luzern;X-APPLE-RADIUS=49;X-TITLE=:geo:47.049366,8.304957
END:VEVENT
END:VCALENDAR
