BEGIN:VCALENDAR
PRODID:-//eluceo/ical//2.0/EN
VERSION:2.0
CALSCALE:GREGORIAN
BEGIN:VEVENT
UID:75381b6c12593e10001ead84fb4a9f5a
DTSTAMP:20260421T205720Z
SUMMARY:Mach mit am Heckentag
DESCRIPTION:Am 4. nationalen Heckentag vom 29. Oktober 2022 möchten wir wi
 eder\nMenschen zusammen bringen und zahlreiche Wildhecken pflanzen. Sei\nd
 abei!\n
DTSTART;VALUE=DATE:20221029
END:VEVENT
END:VCALENDAR
