BEGIN:VCALENDAR
PRODID:-//eluceo/ical//2.0/EN
VERSION:2.0
CALSCALE:GREGORIAN
BEGIN:VEVENT
UID:93c2a99b7cc39d29b408ac0db11e1a2b
DTSTAMP:20260421T210037Z
SUMMARY:Wanderausstellung "Abheben für die Biodiversität" 
DESCRIPTION:Wie fühlt sich ein Maikäfer bei seinem Flug durch Halme und G
 räser?\nErleben Sie den weltweit einzigen Insektenflug - Simulator.\n
DTSTART:20221005T080000Z
DTEND:20221007T160000Z
LOCATION:Gemeindehausplatz\, 6048 Horw
GEO:47.019215;8.308798
X-APPLE-STRUCTURED-LOCATION;VALUE=URI;X-ADDRESS=Gemeindehausplatz\, 6048 Ho
 rw;X-APPLE-RADIUS=49;X-TITLE=:geo:47.019215,8.308798
END:VEVENT
END:VCALENDAR
