BEGIN:VCALENDAR
PRODID:-//eluceo/ical//2.0/EN
VERSION:2.0
CALSCALE:GREGORIAN
BEGIN:VEVENT
UID:a9d38e0727e377b2f3a2156e7aceb82b
DTSTAMP:20260421T224216Z
SUMMARY:Clothing Loop - Kleidertausch an der Gwand
DESCRIPTION:Kleider\, die schon lange im Schrank hängen können getauscht 
 werden -\nso werden Ressourcen gespart und man lernt erst noch neue Leute\
 nkennen.\n
DTSTART:20220902T080000Z
DTEND:20220902T180000Z
LOCATION:Nationalquai\, 6006 Luzern
GEO:47.054602;8.313078
X-APPLE-STRUCTURED-LOCATION;VALUE=URI;X-ADDRESS=Nationalquai\, 6006 Luzern;
 X-APPLE-RADIUS=49;X-TITLE=:geo:47.054602,8.313078
END:VEVENT
END:VCALENDAR
