BEGIN:VCALENDAR
PRODID:-//eluceo/ical//2.0/EN
VERSION:2.0
CALSCALE:GREGORIAN
BEGIN:VEVENT
UID:ffa847037e2d7dc2bc886848f7e901da
DTSTAMP:20260421T210750Z
SUMMARY:Foodsave-Bankett Luzern
DESCRIPTION:Aus Lebensmitteln die nicht mehr verkauft werden\, wird ein lec
 keres\nMenü gezaubert\, das zeigen soll\, das auch mit unförmigem Gemüs
 e\nnoch fein gekocht werden kann.\n
DTSTART:20220924T100000Z
DTEND:20220924T120000Z
LOCATION:Hertensteinstrasse 30\, 6004 Luzern
END:VEVENT
END:VCALENDAR
