BEGIN:VCALENDAR
PRODID:-//eluceo/ical//2.0/EN
VERSION:2.0
CALSCALE:GREGORIAN
BEGIN:VEVENT
UID:b5a63a0c40ebf472bffd86c64d10ae60
DTSTAMP:20260421T130346Z
SUMMARY:Der Kapuzinergarten in den Jahreszeiten
DESCRIPTION:BotanikLyrikKulinarik\n\nHerbstWunderPflanzenTüte: Wildobst\n-
  ein botanischer\, literarischer\, kulinarischer Spaziergang durch den\nKa
 puzinergarten.\n
DTSTART:20230930T140000Z
DTEND:20230930T153000Z
LOCATION:Wesemlinstrasse 42\, 6006 Luzern
GEO:47.061598;8.313342
X-APPLE-STRUCTURED-LOCATION;VALUE=URI;X-ADDRESS=Wesemlinstrasse 42\, 6006 L
 uzern;X-APPLE-RADIUS=49;X-TITLE=:geo:47.061598,8.313342
END:VEVENT
END:VCALENDAR
