BEGIN:VCALENDAR
PRODID:-//eluceo/ical//2.0/EN
VERSION:2.0
CALSCALE:GREGORIAN
BEGIN:VEVENT
UID:b99b8c9f18d34db56affc2f88df3badc
DTSTAMP:20260421T210122Z
SUMMARY:Der Kapuzinergarten in den Jahreszeiten
DESCRIPTION:BotanikLyrikKulinarik\n\nSommerWunderPflanzenTüte: Heilpflanze
 n\n- ein botanischer\, literarischer\, kulinarischer Spaziergang durch den
 \nKapuzinergarten.\n
DTSTART:20230624T140000Z
DTEND:20230624T153000Z
LOCATION:Wesemlinstrasse 42\, 6006 Luzern
GEO:47.061598;8.313342
X-APPLE-STRUCTURED-LOCATION;VALUE=URI;X-ADDRESS=Wesemlinstrasse 42\, 6006 L
 uzern;X-APPLE-RADIUS=49;X-TITLE=:geo:47.061598,8.313342
END:VEVENT
END:VCALENDAR
