BEGIN:VCALENDAR
PRODID:-//eluceo/ical//2.0/EN
VERSION:2.0
CALSCALE:GREGORIAN
BEGIN:VEVENT
UID:00d23624511955126a9f16dab3a2f6a2
DTSTAMP:20260425T040844Z
SUMMARY:Der Kapuzinergarten in den Jahreszeiten
DESCRIPTION:BotanikLyrikKulinarik\n\nFrühlingsWunderPflanzenTüte: Marienp
 flanzen ­\n- ein botanischer\, literarischer\, kulinarischer Spaziergang 
 durch den\nKapuzinergarten.\n
DTSTART:20230513T140000Z
DTEND:20230513T153000Z
LOCATION:Wesemlinstrasse 42\, 6006 Luzern
GEO:47.061598;8.313342
X-APPLE-STRUCTURED-LOCATION;VALUE=URI;X-ADDRESS=Wesemlinstrasse 42\, 6006 L
 uzern;X-APPLE-RADIUS=49;X-TITLE=:geo:47.061598,8.313342
END:VEVENT
END:VCALENDAR
