BEGIN:VCALENDAR
PRODID:-//eluceo/ical//2.0/EN
VERSION:2.0
CALSCALE:GREGORIAN
BEGIN:VEVENT
UID:044d5c3d4e59556eb6e4b4a4e66def3a
DTSTAMP:20260421T190534Z
SUMMARY:Der Kapuzinergarten in den Jahreszeiten 
DESCRIPTION:BotanikLyrikKulinarik\n\nWinterWunderPflanzenTüte: Räucherpfl
 anzen ­\n- ein botanischer\, literarischer\, kulinarischer Spaziergang du
 rch den\nKapuzinergarten.\n
DTSTART:20230114T150000Z
DTEND:20230114T163000Z
LOCATION:Wesemlinstrasse 42\, 6006 Luzern
GEO:47.061598;8.313342
X-APPLE-STRUCTURED-LOCATION;VALUE=URI;X-ADDRESS=Wesemlinstrasse 42\, 6006 L
 uzern;X-APPLE-RADIUS=49;X-TITLE=:geo:47.061598,8.313342
END:VEVENT
END:VCALENDAR
