BEGIN:VCALENDAR
PRODID:-//eluceo/ical//2.0/EN
VERSION:2.0
CALSCALE:GREGORIAN
BEGIN:VEVENT
UID:cb5839581eb7f042a8b6817c21fd4594
DTSTAMP:20260421T210750Z
SUMMARY:Bioterra - 75-Jahr Jubiläum
DESCRIPTION:Mit Rundgängen und Referaten feiern wir 75 Jahre "Gärtnern\nn
 atürlich".\n
DTSTART:20220924T080000Z
DTEND:20220924T140000Z
LOCATION:Burgrain 20\, 6248 Agrarmuseum Burgrain\, Alberswil
GEO:47.143395;7.996523
X-APPLE-STRUCTURED-LOCATION;VALUE=URI;X-ADDRESS=Burgrain 20\, 6248 Agrarmus
 eum Burgrain\, Alberswil;X-APPLE-RADIUS=49;X-TITLE=:geo:47.143395,7.996523
END:VEVENT
END:VCALENDAR
