BEGIN:VCALENDAR
PRODID:-//eluceo/ical//2.0/EN
VERSION:2.0
CALSCALE:GREGORIAN
BEGIN:VEVENT
UID:c0a24ece5596abc30c78ee97a1bae690
DTSTAMP:20260421T224627Z
SUMMARY:E-Commerce: Probleme und Lösungen
DESCRIPTION:Elisabeth Schenk von Public Eye spricht in ihrem Vortrag über 
 den\nOnlinehandel und wie dieser den Modekonsum weiter anheizt. Danach\ndi
 skutieren wir auf dem Podium und mit euch über Lösungen.\n
DTSTART:20220914T173000Z
DTEND:20220914T190000Z
LOCATION:Mythenstrasse 7\, 6003 Luzern
GEO:47.044768;8.307703
X-APPLE-STRUCTURED-LOCATION;VALUE=URI;X-ADDRESS=Mythenstrasse 7\, 6003 Luze
 rn;X-APPLE-RADIUS=49;X-TITLE=:geo:47.044768,8.307703
END:VEVENT
END:VCALENDAR
