BEGIN:VCALENDAR
PRODID:-//eluceo/ical//2.0/EN
VERSION:2.0
CALSCALE:GREGORIAN
BEGIN:VEVENT
UID:74c40625d0a711227bca8f1a30ae55e0
DTSTAMP:20260421T224847Z
SUMMARY:Pilzkontrolle der Stadt Luzern
DESCRIPTION:Die Stadt Luzern führt jedes Jahr von August bis Oktober\nPilz
 kontrollen im Natur-Museum durch.\nAb heute\, Montag\, 8. August 2022\, k
 önnen Pilzsammelnde ihre Pilze\nkostenlos prüfen lassen.\n
DTSTART:20220829T150000Z
DTEND:20220829T163000Z
LOCATION:Kasernenplatz 6\, 6003 Luzern
GEO:47.051635;8.300946
X-APPLE-STRUCTURED-LOCATION;VALUE=URI;X-ADDRESS=Kasernenplatz 6\, 6003 Luze
 rn;X-APPLE-RADIUS=49;X-TITLE=:geo:47.051635,8.300946
END:VEVENT
END:VCALENDAR
