BEGIN:VCALENDAR
PRODID:-//eluceo/ical//2.0/EN
VERSION:2.0
CALSCALE:GREGORIAN
BEGIN:VEVENT
UID:57276419c22ff3001059fb4036beffcd
DTSTAMP:20260421T224327Z
SUMMARY:Zerowaste Tour durch Luzern
DESCRIPTION:Wusstest du\, dass man in Gehdistanz von 5 Minuten (fast) alles
  für\nden täglichen Gebrauch kaufen kann und dass ohne lästigen\nVerpac
 kungsmüll? Falls nicht\, lass Dich überraschen\, was Luzern zu\nbieten h
 at und geniesse zum Abschluss einen Zerowasteapéro\n
DTSTART:20220902T153000Z
DTEND:20220902T163000Z
LOCATION:Winkelriedstrasse 58\, 6003 Luzern
END:VEVENT
END:VCALENDAR
