BEGIN:VCALENDAR
PRODID:-//eluceo/ical//2.0/EN
VERSION:2.0
CALSCALE:GREGORIAN
BEGIN:VEVENT
UID:96334cfc43b52421ab37d1c01ea4581e
DTSTAMP:20260421T210723Z
SUMMARY:Fokuswochenende Regenwurm
DTSTART:20220924T160000Z
DTEND:20220925T143000Z
LOCATION:Diebold-Schilling-Strasse 13\, 6004 Luzern
GEO:47.054599;8.302976
X-APPLE-STRUCTURED-LOCATION;VALUE=URI;X-ADDRESS=Diebold-Schilling-Strasse 1
 3\, 6004 Luzern;X-APPLE-RADIUS=49;X-TITLE=:geo:47.054599,8.302976
END:VEVENT
END:VCALENDAR
