BEGIN:VCALENDAR
PRODID:-//eluceo/ical//2.0/EN
VERSION:2.0
CALSCALE:GREGORIAN
BEGIN:VEVENT
UID:d8750ababb68c95f1191d41285b7fb7f
DTSTAMP:20260424T160207Z
SUMMARY:Giftsammlung Schötz für private Haushaltabfälle
DESCRIPTION:Gefährliche Sonderabfälle müssen fachgerecht entsorgt werden
 .\n
DTSTART:20240608T070000Z
DTEND:20240608T100000Z
LOCATION:Luzernerstrasse 66\, 6247 Schötz
GEO:47.162538;7.996551
X-APPLE-STRUCTURED-LOCATION;VALUE=URI;X-ADDRESS=Luzernerstrasse 66\, 6247 S
 chötz;X-APPLE-RADIUS=49;X-TITLE=:geo:47.162538,7.996551
END:VEVENT
END:VCALENDAR
