BEGIN:VCALENDAR
PRODID:-//eluceo/ical//2.0/EN
VERSION:2.0
CALSCALE:GREGORIAN
BEGIN:VEVENT
UID:4992f14e4677483c5c906cbd146e2aa1
DTSTAMP:20260421T210751Z
SUMMARY:Giftsammlung Malters für private Haushaltabfälle
DESCRIPTION:Gefährliche Sonderabfälle müssen fachgerecht entsorgt werden
 .\n
DTSTART:20230826T070000Z
DTEND:20230826T100000Z
LOCATION:Mettlenmatte 1\, 6102 Malters
GEO:47.040181;8.180174
X-APPLE-STRUCTURED-LOCATION;VALUE=URI;X-ADDRESS=Mettlenmatte 1\, 6102 Malte
 rs;X-APPLE-RADIUS=49;X-TITLE=:geo:47.040181,8.180174
END:VEVENT
END:VCALENDAR
