BEGIN:VCALENDAR
PRODID:-//eluceo/ical//2.0/EN
VERSION:2.0
CALSCALE:GREGORIAN
BEGIN:VEVENT
UID:b9f18d7e726e6f38cfbc54b143b73c04
DTSTAMP:20260421T192106Z
SUMMARY:Giftsammlung Triengen für private Haushaltabfälle
DESCRIPTION:Gefährliche Sonderabfälle müssen fachgerecht entsorgt werden
 .\n
DTSTART:20230513T070000Z
DTEND:20230513T100000Z
LOCATION:Kleinfeldstrasse 2\, 6234 Triengen
GEO:47.239388;8.074436
X-APPLE-STRUCTURED-LOCATION;VALUE=URI;X-ADDRESS=Kleinfeldstrasse 2\, 6234 T
 riengen;X-APPLE-RADIUS=49;X-TITLE=:geo:47.239388,8.074436
END:VEVENT
END:VCALENDAR
