BEGIN:VCALENDAR
PRODID:-//eluceo/ical//2.0/EN
VERSION:2.0
CALSCALE:GREGORIAN
BEGIN:VEVENT
UID:a32ebcf8a2076952a757e5d2bbf9c74b
DTSTAMP:20260421T192037Z
SUMMARY:Giftsammlung Meggen für private Haushaltabfälle
DESCRIPTION:Gefährliche Sonderabfälle müssen fachgerecht entsorgt werden
 .\n
DTSTART:20230506T063000Z
DTEND:20230506T093000Z
LOCATION:Bahnhofstrasse 1\, 6045 Meggen
GEO:47.049594;8.380606
X-APPLE-STRUCTURED-LOCATION;VALUE=URI;X-ADDRESS=Bahnhofstrasse 1\, 6045 Meg
 gen;X-APPLE-RADIUS=49;X-TITLE=:geo:47.049594,8.380606
END:VEVENT
END:VCALENDAR
