BEGIN:VCALENDAR
PRODID:-//eluceo/ical//2.0/EN
VERSION:2.0
CALSCALE:GREGORIAN
BEGIN:VEVENT
UID:a50c299d53eb462ae4586f4cfc9dd5c4
DTSTAMP:20260425T010850Z
SUMMARY:«Filme für die Erde»-Festival
DESCRIPTION:Es handelt sich um eine von der UNESCO ausgezeichnete\nBildungs
 initiative mit dem Ziel Menschen zu mehr Nachhaltigkeit zu\nbewegen. Am Fe
 stival wird eine Auswahl von bewegenden\, spannenden und\nunvergesslichen 
 Umweltdokumentationen gezeigt.\n
DTSTART:20221030T080000Z
DTEND:20221030T220000Z
END:VEVENT
END:VCALENDAR
