BEGIN:VCALENDAR
PRODID:-//eluceo/ical//2.0/EN
VERSION:2.0
CALSCALE:GREGORIAN
BEGIN:VEVENT
UID:3d4d08f63e8c2a9f2bfce6b25d58f847
DTSTAMP:20260421T210750Z
SUMMARY:«Höchste Zeit für die Schöpfung»
DESCRIPTION:So lautet der Slogan für die ökumenische Kampagne der\nSchöp
 fungsZeit 2022. Dazu macht Br. Paul Mathis eine Führung durch\nden Kapuzi
 nergarten.\n
DTSTART:20220928T120000Z
DTEND:20220928T140000Z
LOCATION:Wesemlinstrasse 42\, 6006 Luzern
GEO:47.061710;8.313368
X-APPLE-STRUCTURED-LOCATION;VALUE=URI;X-ADDRESS=Wesemlinstrasse 42\, 6006 L
 uzern;X-APPLE-RADIUS=49;X-TITLE=:geo:47.061710,8.313368
END:VEVENT
END:VCALENDAR
