BEGIN:VCALENDAR
PRODID:-//eluceo/ical//2.0/EN
VERSION:2.0
CALSCALE:GREGORIAN
BEGIN:VEVENT
UID:d400c5e2f26035d97fd044fd7924f074
DTSTAMP:20260421T191202Z
SUMMARY:Verschenke Blumensamen
DESCRIPTION:Mit einer selbst komponierten Saatgutmischung bringst du Farbe 
 und\nVielfalt unter den Weihnachtsbaum. Wir stellen dir verschiedene\neinh
 eimische Blumensamen zur Verfügung\, welche du selber mischen und\nschön
  verpackt verschenken kannst.\n
DTSTART:20221214T120000Z
DTEND:20221214T150000Z
LOCATION:Löwenplatz 10\, 6004 Luzern
GEO:47.057071;8.311230
X-APPLE-STRUCTURED-LOCATION;VALUE=URI;X-ADDRESS=Löwenplatz 10\, 6004 Luzer
 n;X-APPLE-RADIUS=49;X-TITLE=:geo:47.057071,8.311230
END:VEVENT
END:VCALENDAR
