BEGIN:VCALENDAR
PRODID:-//eluceo/ical//2.0/EN
VERSION:2.0
CALSCALE:GREGORIAN
BEGIN:VEVENT
UID:b63e8adbea0ec520dfc1fe769a0e9f67
DTSTAMP:20260421T210123Z
SUMMARY:«Filme für die Erde»-Festival
DESCRIPTION:Es handelt sich um eine von der UNESCO ausgezeichnete\nBildungs
 initiative mit dem Ziel Menschen zu mehr Nachhaltigkeit zu\nbewegen. Am Fe
 stival wird eine Auswahl von bewegenden\, spannenden und\nunvergesslichen 
 Umweltdokumentationen gezeigt.\n
DTSTART:20221027T070000Z
DTEND:20221027T210000Z
END:VEVENT
END:VCALENDAR
