BEGIN:VCALENDAR
PRODID:-//eluceo/ical//2.0/EN
VERSION:2.0
CALSCALE:GREGORIAN
BEGIN:VEVENT
UID:526809f4e718c693eefadce67300cd80
DTSTAMP:20260421T210827Z
SUMMARY:Ernährung und Umwelt: Umfassende Veranstaltungsreihe
DESCRIPTION:Persönliche und globale Gesundheit im Gleichgewicht: Die Nahru
 ng\nspielt auf beiden Ebenen eine wichtige Rolle. An vier Veranstaltungen\
 nwerden diverse Aspekte beleuchtet.\n
DTSTART:20221026T170000Z
DTEND:20221026T193000Z
LOCATION:Diebold-Schilling-Strasse 13\, 6004 Luzern
GEO:47.054597;8.302977
X-APPLE-STRUCTURED-LOCATION;VALUE=URI;X-ADDRESS=Diebold-Schilling-Strasse 1
 3\, 6004 Luzern;X-APPLE-RADIUS=49;X-TITLE=:geo:47.054597,8.302977
END:VEVENT
END:VCALENDAR
