BEGIN:VCALENDAR
PRODID:-//eluceo/ical//2.0/EN
VERSION:2.0
CALSCALE:GREGORIAN
BEGIN:VEVENT
UID:51839e3fd7c7ab89fac3911df3fe1422
DTSTAMP:20260425T010553Z
SUMMARY:Pilzexkursion - ACHTUNG: Abgesagt
DESCRIPTION:NACHTRAG 17.10.2022: Der Anlass muss leider wegen wegen Ausfall
  des\nKursleiters abgesagt werden.\nDer Anlass vom 29.10. ist davon nicht 
 betroffen. Dieser ist bereits\nausgebucht.\nWir bedauern die Umstände.\n
DTSTART:20221022T070000Z
DTEND:20221022T120000Z
END:VEVENT
END:VCALENDAR
