BEGIN:VCALENDAR
PRODID:-//eluceo/ical//2.0/EN
VERSION:2.0
CALSCALE:GREGORIAN
BEGIN:VEVENT
UID:f439f156eaf93352fab56b67192eb122
DTSTAMP:20260421T210036Z
SUMMARY:Besuch Energiewelt CKW in Rathausen
DESCRIPTION:Tauchen Sie im Besucherzentrum in die Welt der Energie ein. Ber
 echnen\nSie mit Hilfe des Energierechners Ihre persönliche\n«Energieeffi
 zienz-Etikette». Lernen Sie bei der neuen Energieshow\,\nwie eine klimafr
 eundliche Energieversorgung aussehen soll.\n
DTSTART:20221020T163000Z
DTEND:20221020T190000Z
LOCATION:Rathausenstrasse 1\, 6032 Emmen
GEO:47.082295;8.314915
X-APPLE-STRUCTURED-LOCATION;VALUE=URI;X-ADDRESS=Rathausenstrasse 1\, 6032 E
 mmen;X-APPLE-RADIUS=49;X-TITLE=:geo:47.082295,8.314915
END:VEVENT
END:VCALENDAR
