BEGIN:VCALENDAR
PRODID:-//eluceo/ical//2.0/EN
VERSION:2.0
CALSCALE:GREGORIAN
BEGIN:VEVENT
UID:4969e5b0c4ff33982e1479da5327a95c
DTSTAMP:20260421T210724Z
SUMMARY:Führung bei der vbl: Tschüss Diesel\, hallo Elektrobus!
DESCRIPTION:Dank elektrischen Oberleitungen werden im Kanton Luzern bereits
  heute\nrund 45 Prozent der Bus-Fahrgäste mit Strom befördert. Dieser An
 teil\nsoll in den nächsten Jahren dank Batterietrolleybussen und\nElektro
 bussen deutlich gesteigert werden.\n
DTSTART:20220915T153000Z
DTEND:20220915T170000Z
LOCATION:Tribschenstrasse 65\, 6006 Luzern
GEO:47.042992;8.318697
X-APPLE-STRUCTURED-LOCATION;VALUE=URI;X-ADDRESS=Tribschenstrasse 65\, 6006 
 Luzern;X-APPLE-RADIUS=49;X-TITLE=:geo:47.042992,8.318697
END:VEVENT
END:VCALENDAR
