BEGIN:VCALENDAR
PRODID:-//eluceo/ical//2.0/EN
VERSION:2.0
CALSCALE:GREGORIAN
BEGIN:VEVENT
UID:c37a7e0eb974276324e4b54e1b21fe28
DTSTAMP:20260421T224627Z
SUMMARY:Gesteine in der Stadt Luzern: Gewachsene und Verbaute
DESCRIPTION:Auf einem Spaziergang zu den Stationen Hofkirche\, «unter der 
 Egg»\nund Rathausplatz erwarten uns überraschende Geschichten zu den\nGe
 steinen\, die uns auf Schritt und Tritt begegnen.\n
DTSTART:20220910T073000Z
DTEND:20220910T093000Z
LOCATION:Denkmalstrasse 13\, 6006 Luzern
GEO:47.058496;8.310399
X-APPLE-STRUCTURED-LOCATION;VALUE=URI;X-ADDRESS=Denkmalstrasse 13\, 6006 Lu
 zern;X-APPLE-RADIUS=49;X-TITLE=:geo:47.058496,8.310399
END:VEVENT
END:VCALENDAR
