BEGIN:VCALENDAR
PRODID:-//eluceo/ical//2.0/EN
VERSION:2.0
CALSCALE:GREGORIAN
BEGIN:VEVENT
UID:602b8d86d092f9f7cf104eeedf3c9615
DTSTAMP:20260421T203904Z
SUMMARY:Besichtigung Quellwasserwerk Sonnenberg und ökologische Aufwertung
 en
DESCRIPTION:Beim Spaziergang rund ums Quellwasserwerk Sonnenberg dreht sich
  alles\num das Thema Wasser. Wir besichtigen eine der modernsten\nTrinkwas
 seraufbereitungsanlagen weltweit und lernen die in der Nähe\nneu geschaff
 enen Lebensräume für den «Glögglifrosch».\n
DTSTART:20220831T160000Z
DTEND:20220831T180000Z
LOCATION:Obergütschstrasse 14\, 6003 Luzern
GEO:47.046692;8.289684
X-APPLE-STRUCTURED-LOCATION;VALUE=URI;X-ADDRESS=Obergütschstrasse 14\, 600
 3 Luzern;X-APPLE-RADIUS=49;X-TITLE=:geo:47.046692,8.289684
END:VEVENT
END:VCALENDAR
