BEGIN:VCALENDAR
PRODID:-//eluceo/ical//2.0/EN
VERSION:2.0
CALSCALE:GREGORIAN
BEGIN:VEVENT
UID:35e72bf947f1893502b5663ccd9b7a96
DTSTAMP:20260421T224938Z
SUMMARY:Baustellenführung See-Energie Luzern Zentrum
DESCRIPTION:See-Energie spielt bei der Versorgung der Stadt Luzern mit\nkli
 mafreundlicher\, erneuerbarer Energie eine wichtige Rolle. Was ist\nSeeEne
 rgie und wie funktioniert sie? Wie gelangt die Wärme und Kälte\naus dem 
 Vierwaldstättersee zu den Gebäuden?\n
DTSTART:20220825T143000Z
DTEND:20220825T153000Z
LOCATION:Frankenstrasse 10\, 6003 Luzern
GEO:47.048979;8.308035
X-APPLE-STRUCTURED-LOCATION;VALUE=URI;X-ADDRESS=Frankenstrasse 10\, 6003 Lu
 zern;X-APPLE-RADIUS=49;X-TITLE=:geo:47.048979,8.308035
END:VEVENT
END:VCALENDAR
