BEGIN:VCALENDAR
PRODID:-//eluceo/ical//2.0/EN
VERSION:2.0
CALSCALE:GREGORIAN
BEGIN:VEVENT
UID:b5a6b2021dd71a47e30f7ab954426e5f
DTSTAMP:20260421T224846Z
SUMMARY:Klima- und Energiestrategie - 1. Anlass
DESCRIPTION:Im Hinblick auf die Volksabstimmung vom 25. September informier
 t die\nStadt Luzern über die Ziele und Massnahmen der neuen Klima- und\nE
 nergiestrategie. Mit den Stadträten Adrian Borgula und Martin Merki\nsowi
 e Patrik Rust.\n
DTSTART:20220816T170000Z
DTEND:20220816T190000Z
LOCATION:Obermättlistrasse 44\, 6015 Luzern
GEO:47.062147;8.280121
X-APPLE-STRUCTURED-LOCATION;VALUE=URI;X-ADDRESS=Obermättlistrasse 44\, 601
 5 Luzern;X-APPLE-RADIUS=49;X-TITLE=:geo:47.062147,8.280121
END:VEVENT
END:VCALENDAR
