BEGIN:VCALENDAR
PRODID:-//eluceo/ical//2.0/EN
VERSION:2.0
CALSCALE:GREGORIAN
BEGIN:VEVENT
UID:8432f252bdd8a0a4c96c08189def9ad1
DTSTAMP:20260421T225042Z
SUMMARY:Gewässerperle Waldemme entdecken
DESCRIPTION:Entdecken Sie mit uns die spektakuläre Landschaft entlang der\
 nWaldemme und erfahren Sie\, warum sich WWF\, Fischereiverband Luzern und\
 nAqua Viva erfolgreich gegen die Wasserkraftnutzung in der Lammschlucht\ne
 ngagierten.\n
DTSTART:20220625T074500Z
DTEND:20220625T120000Z
LOCATION:Krutacher\, 6173 Flühli
GEO:46.908989;8.015091
X-APPLE-STRUCTURED-LOCATION;VALUE=URI;X-ADDRESS=Krutacher\, 6173 Flühli;X-
 APPLE-RADIUS=49;X-TITLE=:geo:46.908989,8.015091
END:VEVENT
END:VCALENDAR
