BEGIN:VCALENDAR
PRODID:-//eluceo/ical//2.0/EN
VERSION:2.0
CALSCALE:GREGORIAN
BEGIN:VEVENT
UID:4bad1bdb3e2fa236f902a34d62af1022
DTSTAMP:20260422T002039Z
SUMMARY:Magerwiese pflegen (Copy)
DESCRIPTION:Wer unterstützt uns bei der Bekämpfung von Berufkraut in der 
 2020\nangelegten Magerwiese direkt oberhalb des Bahngleises am Rotsee? Das
 \nEinjährige Berufkraut droht die Wiese zu überwuchern. Die einzige\nwir
 kungsvolle Bekämpfungsmethode ist das Jäten.\n
DTSTART:20220528T080000Z
DTEND:20220528T100000Z
LOCATION:Seehof 617\, 6032 Ebikon
GEO:47.073322;8.313793
X-APPLE-STRUCTURED-LOCATION;VALUE=URI;X-ADDRESS=Seehof 617\, 6032 Ebikon;X-
 APPLE-RADIUS=49;X-TITLE=:geo:47.073322,8.313793
END:VEVENT
END:VCALENDAR
