BEGIN:VCALENDAR
PRODID:-//eluceo/ical//2.0/EN
VERSION:2.0
CALSCALE:GREGORIAN
BEGIN:VEVENT
UID:029221c586cca530d2f89f49a5d27a0a
DTSTAMP:20260422T001911Z
SUMMARY:Vortrag: CO2-Gesetz - quo vadis?
DESCRIPTION:Vortrag: "CO2-Gesetz – quo vadis?"  Dr. Raphael Bucher (BAFU
 )\nzeigt\, warum ein revidiertes und griffiges CO2-Gesetz für die Schweiz
 \nso wichtig ist.\n
DTSTART:20220608T153000Z
DTEND:20220608T163000Z
LOCATION:Zentralstrasse 9\, 6003 Luzern
GEO:47.049638;8.309497
X-APPLE-STRUCTURED-LOCATION;VALUE=URI;X-ADDRESS=Zentralstrasse 9\, 6003 Luz
 ern;X-APPLE-RADIUS=49;X-TITLE=:geo:47.049638,8.309497
END:VEVENT
END:VCALENDAR
