BEGIN:VCALENDAR
PRODID:-//eluceo/ical//2.0/EN
VERSION:2.0
CALSCALE:GREGORIAN
BEGIN:VEVENT
UID:f88e9f6f210cf709c5e97a3a0382d987
DTSTAMP:20260422T001902Z
SUMMARY:Magerwiese pflegen
DESCRIPTION:Wer unterstützt uns bei der Bekämpfung von Berufkraut in der 
 2020\nangelegten Magerwiese direkt oberhalb des Bahngleises am Rotsee? Das
 \nEinjährige Berufkraut droht die Wiese zu überwuchern. Die einzige\nwir
 kungsvolle Bekämpfungsmethode ist das Jäten.\n
DTSTART:20220514T080000Z
DTEND:20220514T100000Z
LOCATION:Seehof 617\, 6032 Ebikon
GEO:47.073322;8.313793
X-APPLE-STRUCTURED-LOCATION;VALUE=URI;X-ADDRESS=Seehof 617\, 6032 Ebikon;X-
 APPLE-RADIUS=49;X-TITLE=:geo:47.073322,8.313793
END:VEVENT
END:VCALENDAR
