BEGIN:VCALENDAR
PRODID:-//eluceo/ical//2.0/EN
VERSION:2.0
CALSCALE:GREGORIAN
BEGIN:VEVENT
UID:c7b2a3c47e91db0ce9c244726e3b78d2
DTSTAMP:20260422T020401Z
SUMMARY:Magerwiese pflegen
DESCRIPTION:Wer unterstützt uns bei der Bekämpfung von Berufkraut in der 
 2020\nangelegten Magerwiese direkt oberhalb des Bahngleises am Rotsee? Das
 \nEinjährige Berufkraut droht die Wiese zu überwuchern. Die einzige\nwir
 kungsvolle Bekämpfungsmethode ist das Jäten.\n
DTSTART:20220430T080000Z
DTEND:20220430T100000Z
LOCATION:Seehof 617\, 6032 Ebikon
GEO:47.073336;8.313889
X-APPLE-STRUCTURED-LOCATION;VALUE=URI;X-ADDRESS=Seehof 617\, 6032 Ebikon;X-
 APPLE-RADIUS=49;X-TITLE=:geo:47.073336,8.313889
END:VEVENT
END:VCALENDAR
