BEGIN:VCALENDAR
PRODID:-//eluceo/ical//2.0/EN
VERSION:2.0
CALSCALE:GREGORIAN
BEGIN:VEVENT
UID:ff2ef657118c05b2ad9afbf4367187ce
DTSTAMP:20260421T224752Z
SUMMARY:Naturkongress 2022
DESCRIPTION:Mit dem jährlichen Naturkongress bietet eco.ch eine Plattform 
 für\nBegegnung\, Austausch und Diskussion rund um das Thema Biodiversitä
 t\nund Nachhaltigkeit. Die diesjährige Ausgabe widmet sich dem Flächen-\
 nund Qualitätsverlust der Schweizer Lebensräume.\n
DTSTART:20220823T060000Z
DTEND:20220823T151500Z
LOCATION:Fabrikstrasse 12\, 3012 Bern
GEO:46.952937;7.423319
X-APPLE-STRUCTURED-LOCATION;VALUE=URI;X-ADDRESS=Fabrikstrasse 12\, 3012 Ber
 n;X-APPLE-RADIUS=49;X-TITLE=:geo:46.952937,7.423319
END:VEVENT
END:VCALENDAR
