BEGIN:VCALENDAR
PRODID:-//eluceo/ical//2.0/EN
VERSION:2.0
CALSCALE:GREGORIAN
BEGIN:VEVENT
UID:c26261b5d1b00af944e4f965a0c71304
DTSTAMP:20260422T001845Z
SUMMARY:Wildstaudenmarkt in Oberkirch 
DESCRIPTION:Den Garten oder Balkon mit Wildstauden verschönern und damit e
 twas\nfür die Insekten tun: Am Wildstaudenmarkt in Oberkirch findet man\n
 passende Pflanzen.\n
DTSTART:20220507T070000Z
DTEND:20220507T100000Z
LOCATION:Luzernstrasse 58\, 6208 Oberkirch
GEO:47.158296;8.114464
X-APPLE-STRUCTURED-LOCATION;VALUE=URI;X-ADDRESS=Luzernstrasse 58\, 6208 Obe
 rkirch;X-APPLE-RADIUS=49;X-TITLE=:geo:47.158296,8.114464
END:VEVENT
END:VCALENDAR
