BEGIN:VCALENDAR
PRODID:-//eluceo/ical//2.0/EN
VERSION:2.0
CALSCALE:GREGORIAN
BEGIN:VEVENT
UID:0557ce914fce26892efd1b39180be58f
DTSTAMP:20260421T101145Z
SUMMARY:Sounding Soil - Der Boden tönt!
DESCRIPTION:Die meisten Bodentiere machen Geräusche\, wenn sie sich bewege
 n\,\nfressen oder kommunizieren. Das können wir hören! Ein Workshop von\
 nBiovision im Neugarten.\n
DTSTART:20220505T170000Z
DTEND:20220505T180000Z
LOCATION:Bireggstrasse 36\, 6003 Luzern
GEO:47.041412;8.307136
X-APPLE-STRUCTURED-LOCATION;VALUE=URI;X-ADDRESS=Bireggstrasse 36\, 6003 Luz
 ern;X-APPLE-RADIUS=49;X-TITLE=:geo:47.041412,8.307136
END:VEVENT
END:VCALENDAR
