BEGIN:VCALENDAR
PRODID:-//eluceo/ical//2.0/EN
VERSION:2.0
CALSCALE:GREGORIAN
BEGIN:VEVENT
UID:4589b781b695356a31ecd40ba532ba6d
DTSTAMP:20260422T001844Z
SUMMARY:Repair Cafés Luzern - Bourbaki Bar
DESCRIPTION:Reparieren schont Budget und Umwelt – gemeinsam und unentgelt
 lich\n
DTSTART:20220528T080000Z
DTEND:20220528T120000Z
LOCATION:Löwenplatz 11\, 6004 Luzern
GEO:47.057029;8.310948
X-APPLE-STRUCTURED-LOCATION;VALUE=URI;X-ADDRESS=Löwenplatz 11\, 6004 Luzer
 n;X-APPLE-RADIUS=49;X-TITLE=:geo:47.057029,8.310948
END:VEVENT
END:VCALENDAR
